BEGIN:VCALENDAR
VERSION:2.0
PRODID:-//wp-events-plugin.com//7.2.3.1//EN
BEGIN:VEVENT
UID:2@festivaldumieuxetre.fr
DTSTART:20230916T103000Z
DTEND:20230916T113000Z
DTSTAMP:20230825T195657Z
URL:https://festivaldumieuxetre.fr/evenements/le-pitch-ou-comment-se-prese
 nter-de-maniere-impactante/
SUMMARY:Le pitch ou comment se présenter de manière impactante
DESCRIPTION:Comment préparer son pitch pour se présenter et développer s
 on impact et sa « présence »\, en 3 points : \n\n- Être plus à l’ai
 se devant un public\, \n\n- Améliorer la manière de faire passer un mess
 age\, \n\n- Renforcer la cohérence de sa communication orale et non verba
 le.
CATEGORIES:Conférences
LOCATION:Salon du Mieux-être\, Av. de la 7ème Division Blindée Américai
 ne\, Melun\, France
X-APPLE-STRUCTURED-LOCATION;VALUE=URI;X-ADDRESS=Av. de la 7ème Division Bl
 indée Américaine\, Melun\, France;X-APPLE-RADIUS=100;X-TITLE=Salon du Mi
 eux-être:geo:0,0
END:VEVENT
END:VCALENDAR